##############################################################################
###                                                                        ###
###        Electronic paper (Acta Crystallographica Section E)             ###
###                                                                        ###
##############################################################################
#                                                                            #
# This CIF contains the data in a paper accepted for publication in Acta     #
# Crystallographica Section E. It conforms to the requirements of Notes      #
# for Authors for Section E, and has been peer reviewed under the auspices   #
# of the IUCr Commission on Journals.                                        #
#                                                                            #
# Full details of the Crystallographic Information File format               #
# are given in the paper "The Crystallographic Information File (CIF):       #
# a New Standard Archive File for Crystallography" by S. R. Hall, F. H.      #
# Allen and I. D. Brown [Acta Cryst. (1991), A47, 655-685].                  #
#                                                                            #
# The current version of the core CIF dictionary is obtainable from          #
# ftp://ftp.iucr.org/pub/cif_core.dic. The current version number is 2.1.    #
#                                                                            #
# Software is freely available for graphical display of the structure(s) in  #
# this CIF.  For information consult the CIF home page http://www.iucr.org/  #
# cif/home.html                                                              #
#                                                                            #
##############################################################################
                                             
data_I
_audit_creation_method     SHELXL-97
_chemical_name_systematic
;
N,N-Bis(2-bromoethyl)aniline
;
_chemical_name_common     ?
_chemical_formula_moiety     'C10 H13 Br2 N'
_chemical_formula_sum     'C10 H13 Br2 N'
_chemical_formula_iupac     'C10 H13 Br2 N'
_chemical_formula_weight     307.03
_chemical_melting_point     ?
_symmetry_cell_setting     'Orthorhombic'
_symmetry_space_group_name_H-M     'F d d 2'
_symmetry_space_group_name_Hall     'F 2 -2d'
loop_
    _symmetry_equiv_pos_as_xyz
    'x, y, z'
    '-x, -y, z'
    'x+1/4, -y+1/4, z+1/4'
    '-x+1/4, y+1/4, z+1/4'
    'x, y+1/2, z+1/2'
    '-x, -y+1/2, z+1/2'
    'x+1/4, -y+3/4, z+3/4'
    '-x+1/4, y+3/4, z+3/4'
    'x+1/2, y, z+1/2'
    '-x+1/2, -y, z+1/2'
    'x+3/4, -y+1/4, z+3/4'
    '-x+3/4, y+1/4, z+3/4'
    'x+1/2, y+1/2, z'
    '-x+1/2, -y+1/2, z'
    'x+3/4, -y+3/4, z+1/4'
    '-x+3/4, y+3/4, z+1/4'
_cell_length_a     13.682(12)
_cell_length_b     13.926(12)
_cell_length_c     12.215(10)
_cell_angle_alpha     90.00
_cell_angle_beta     90.00
_cell_angle_gamma     90.00
_cell_volume     2327(3)
_cell_formula_units_Z     8
_cell_measurement_reflns_used     1908
_cell_measurement_theta_min     2.67
_cell_measurement_theta_max     24.30
_cell_measurement_temperature     297(2)
_exptl_crystal_description     'block'
_exptl_crystal_colour     'colourless'
_exptl_crystal_size_max     0.27
_exptl_crystal_size_mid     0.23
_exptl_crystal_size_min     0.09
_exptl_crystal_density_diffrn     1.752
_exptl_crystal_density_meas     ?
_exptl_crystal_density_method     'not measured'
_exptl_crystal_F_000     1200
_exptl_absorpt_coefficient_mu     6.924
_exptl_absorpt_correction_type     'multi-scan'
_exptl_absorpt_process_details     '(SADABS; Bruker, 2000)'
_exptl_absorpt_correction_T_min     0.155
_exptl_absorpt_correction_T_max     0.534
_exptl_special_details
;
 ?
;
_diffrn_ambient_temperature     297(2)
_diffrn_radiation_type     MoK\a
_diffrn_radiation_wavelength     0.71073
_diffrn_radiation_source     'fine-focus sealed tube'
_diffrn_radiation_monochromator     graphite
_diffrn_measurement_device_type     'Bruker SMART APEX diffractometer'
_diffrn_measurement_method     'φ and ω scans'
_diffrn_detector_area_resol_mean     ?
_diffrn_reflns_number     4145
_diffrn_reflns_av_R_equivalents     0.0467
_diffrn_reflns_av_sigmaI/netI     0.0482
_diffrn_reflns_theta_min     2.67
_diffrn_reflns_theta_max     26.36
_diffrn_reflns_theta_full     26.36
_diffrn_measured_fraction_theta_max     0.998
_diffrn_measured_fraction_theta_full     0.998
_diffrn_reflns_limit_h_min     -17
_diffrn_reflns_limit_h_max     17
_diffrn_reflns_limit_k_min     -17
_diffrn_reflns_limit_k_max     17
_diffrn_reflns_limit_l_min     -15
_diffrn_reflns_limit_l_max     15
_diffrn_standards_number     ?
_diffrn_standards_interval_count     ?
_diffrn_standards_interval_time     ?
_diffrn_standards_decay_%     ?
_refine_special_details
;
 Refinement of F² against ALL reflections.  The weighted R-factor wR and
 goodness of fit S are based on F², conventional R-factors R are based
 on F, with F set to zero for negative F². The threshold expression of
 F² > 2sigma(F²) is used only for calculating R-factors(gt) etc. and is
 not relevant to the choice of reflections for refinement.  R-factors based
 on F² are statistically about twice as large as those based on F, and R-
 factors based on ALL data will be even larger.
;
_reflns_number_total     1191
_reflns_number_gt     893
_reflns_threshold_expression     I>2σ(I)
_refine_ls_structure_factor_coef     Fsqd
_refine_ls_matrix_type     full
_refine_ls_R_factor_all     0.0526
_refine_ls_R_factor_gt     0.0373
_refine_ls_wR_factor_gt     0.0827
_refine_ls_wR_factor_ref     0.0876
_refine_ls_goodness_of_fit_ref     0.991
_refine_ls_restrained_S_all     0.991
_refine_ls_number_reflns     1191
_refine_ls_number_parameters     61
_refine_ls_number_restraints     1
_refine_ls_hydrogen_treatment     constr
_refine_ls_weighting_scheme     calc
_refine_ls_weighting_details
                 'calc w=1/[σ²(Fo²)+(0.0396P)²] where P=(Fo²+2Fc²)/3'
_atom_sites_solution_hydrogens     geom
_atom_sites_solution_primary     direct
_atom_sites_solution_secondary     difmap
_refine_ls_shift/su_max     0.000
_refine_ls_shift/su_mean     0.000
_refine_diff_density_max     0.605
_refine_diff_density_min     -0.412
_refine_ls_extinction_method     none
_refine_ls_extinction_coef     ?
_refine_ls_abs_structure_details     'Flack (1983), 564 Friedel pairs'
_refine_ls_abs_structure_Flack     0.05(3)
loop_
    _atom_type_symbol
    _atom_type_description
    _atom_type_scat_dispersion_real
    _atom_type_scat_dispersion_imag
    _atom_type_scat_source
    'C' 'C' 0.0033 0.0016
                         'International Tables Vol C Tables 4.2.6.8 and 6.1.1.4'
    'H' 'H' 0.0000 0.0000
                         'International Tables Vol C Tables 4.2.6.8 and 6.1.1.4'
    'N' 'N' 0.0061 0.0033
                         'International Tables Vol C Tables 4.2.6.8 and 6.1.1.4'
    'Br' 'Br' -0.2901 2.4595
                         'International Tables Vol C Tables 4.2.6.8 and 6.1.1.4'
_computing_data_collection     'SMART (Bruker, 2000)'
_computing_cell_refinement     'SAINT-Plus (Bruker, 2000)'
_computing_data_reduction     'SAINT-Plus(Bruker, 2000)'
_computing_structure_solution     'SHELXTL (Bruker, 2001)'
_computing_structure_refinement     'SHELXTL(Bruker, 2001)'
_computing_molecular_graphics     'DIAMOND (Brandenburg & Putz, 2006)'
_computing_publication_material     'publCIF (Westrip, 2007)'
loop_
    _atom_site_type_symbol
    _atom_site_label
    _atom_site_fract_x
    _atom_site_fract_y
    _atom_site_fract_z
    _atom_site_U_iso_or_equiv
    _atom_site_adp_type
    _atom_site_calc_flag
    _atom_site_refinement_flags
    _atom_site_occupancy
    _atom_site_disorder_assembly
    _atom_site_disorder_group
    C C6 0.4227(4) 0.2321(4) 0.3885(5) 0.0665(14) Uani d . 1 . .
    H H6A 0.4458 0.2250 0.4632 0.080 Uiso calc R 1 . .
    H H6B 0.4729 0.2653 0.3472 0.080 Uiso calc R 1 . .
    C C5 0.3302(4) 0.2919(4) 0.3884(4) 0.0595(14) Uani d . 1 . .
    H H5A 0.3448 0.3544 0.4193 0.071 Uiso calc R 1 . .
    H H5B 0.3097 0.3016 0.3132 0.071 Uiso calc R 1 . .
    Br Br1 0.40184(5) 0.10577(5) 0.32538(10) 0.0854(3) Uani d . 1 . .
    C C1 0.2500 0.2500 0.5638(6) 0.0453(14) Uani d S 1 . .
    N N1 0.2500 0.2500 0.4487(4) 0.0521(13) Uani d S 1 . .
    C C2 0.3190(3) 0.3010(4) 0.6240(4) 0.0569(13) Uani d . 1 . .
    H H2 0.3669 0.3356 0.5871 0.068 Uiso calc R 1 . .
    C C3 0.3183(5) 0.3014(4) 0.7376(5) 0.0687(16) Uani d . 1 . .
    H H3 0.3649 0.3371 0.7753 0.082 Uiso calc R 1 . .
    C C4 0.2500 0.2500 0.7949(7) 0.074(2) Uani d S 1 . .
    H H4 0.2500 0.2500 0.8710 0.089 Uiso calc SR 1 . .
loop_
    _atom_site_aniso_label
    _atom_site_aniso_U_11
    _atom_site_aniso_U_22
    _atom_site_aniso_U_33
    _atom_site_aniso_U_12
    _atom_site_aniso_U_13
    _atom_site_aniso_U_23
    C6 0.053(3) 0.067(3) 0.079(4) -0.001(2) 0.012(3) -0.004(3)
    C5 0.071(3) 0.052(3) 0.056(3) 0.007(3) 0.008(3) 0.008(2)
    Br1 0.0888(4) 0.0783(4) 0.0891(4) 0.0256(3) 0.0001(4) -0.0161(4)
    C1 0.047(3) 0.036(3) 0.053(4) 0.012(3) 0.000 0.000
    N1 0.044(3) 0.062(3) 0.051(3) 0.000(3) 0.000 0.000
    C2 0.045(3) 0.051(3) 0.075(3) -0.004(2) -0.004(2) -0.007(3)
    C3 0.061(3) 0.069(4) 0.076(4) 0.015(3) -0.025(3) -0.014(3)
    C4 0.078(6) 0.083(6) 0.062(5) 0.019(5) 0.000 0.000
_geom_special_details
;
 All esds (except the esd in the dihedral angle between two l.s. planes)
 are estimated using the full covariance matrix.  The cell esds are taken
 into account individually in the estimation of esds in distances, angles
 and torsion angles; correlations between esds in cell parameters are only
 used when they are defined by crystal symmetry.  An approximate (isotropic)
 treatment of cell esds is used for estimating esds involving l.s. planes.
;
loop_
    _geom_bond_atom_site_label_1
    _geom_bond_atom_site_label_2
    _geom_bond_site_symmetry_2
    _geom_bond_distance
    _geom_bond_publ_flag
    C6 C5 . 1.515(7) ?
    C6 Br1 . 1.942(6) ?
    C6 H6A . 0.970 ?
    C6 H6B . 0.970 ?
    C5 N1 . 1.445(6) ?
    C5 H5A . 0.970 ?
    C5 H5B . 0.970 ?
    C1 C2 . 1.391(6) ?
    C1 N1 . 1.406(9) ?
    C2 C3 . 1.388(8) ?
    C2 H2 . 0.930 ?
    C3 C4 . 1.370(8) ?
    C3 H3 . 0.930 ?
    C4 H4 . 0.930 ?
loop_
    _geom_angle_atom_site_label_1
    _geom_angle_atom_site_label_2
    _geom_angle_atom_site_label_3
    _geom_angle_site_symmetry_1
    _geom_angle_site_symmetry_3
    _geom_angle
    _geom_angle_publ_flag
    C5 C6 Br1 . . 112.0(4) ?
    C5 C6 H6A . . 109.2 ?
    Br1 C6 H6A . . 109.2 ?
    C5 C6 H6B . . 109.2 ?
    Br1 C6 H6B . . 109.2 ?
    H6A C6 H6B . . 107.9 ?
    N1 C5 C6 . . 114.3(4) ?
    N1 C5 H5A . . 108.7 ?
    C6 C5 H5A . . 108.7 ?
    N1 C5 H5B . . 108.7 ?
    C6 C5 H5B . . 108.7 ?
    H5A C5 H5B . . 107.6 ?
    C2 C1 C2 14 . 116.2(7) ?
    C2 C1 N1 14 . 121.9(3) ?
    C2 C1 N1 . . 121.9(3) ?
    C1 N1 C5 . . 120.7(3) ?
    C1 N1 C5 . 14 120.7(3) ?
    C5 N1 C5 . 14 118.6(6) ?
    C3 C2 C1 . . 121.7(5) ?
    C3 C2 H2 . . 119.1 ?
    C1 C2 H2 . . 119.1 ?
    C4 C3 C2 . . 120.9(6) ?
    C4 C3 H3 . . 119.6 ?
    C2 C3 H3 . . 119.6 ?
    C3 C4 C3 . 14 118.6(8) ?
    C3 C4 H4 . . 120.7 ?
    C3 C4 H4 14 . 120.7 ?
loop_
    _geom_torsion_atom_site_label_1
    _geom_torsion_atom_site_label_2
    _geom_torsion_atom_site_label_3
    _geom_torsion_atom_site_label_4
    _geom_torsion_site_symmetry_1
    _geom_torsion_site_symmetry_2
    _geom_torsion_site_symmetry_3
    _geom_torsion_site_symmetry_4
    _geom_torsion
    _geom_torsion_publ_flag
    Br1 C6 C5 N1 . . . . 59.5(6) ?
    C2 C1 N1 C5 14 . . . -171.0(3) ?
    C2 C1 N1 C5 . . . . 9.0(3) ?
    C2 C1 N1 C5 14 . . 14 8.9(3) ?
    C2 C1 N1 C5 . . . 14 -171.1(3) ?
    C6 C5 N1 C1 . . . . 74.3(5) ?
    C6 C5 N1 C5 . . . 14 -105.7(5) ?
    C2 C1 C2 C3 14 . . . -0.5(4) ?
    N1 C1 C2 C3 . . . . 179.5(4) ?
    C1 C2 C3 C4 . . . . 1.1(7) ?
    C2 C3 C4 C3 . . . 14 -0.5(4) ?
loop_
    _geom_hbond_atom_site_label_D
    _geom_hbond_atom_site_label_H
    _geom_hbond_atom_site_label_A
    _geom_hbond_site_symmetry_A
    _geom_hbond_distance_DH
    _geom_hbond_distance_HA
    _geom_hbond_distance_DA
    _geom_hbond_angle_DHA
    C5 H5B Br1 12_554 0.97 3.05 3.933(6) 153
data_global
_journal_date_recd_electronic     2007-11-03
_journal_date_accepted     2007-11-06
_journal_name_full     'Acta Crystallographica, Section E'
_journal_year     2008
_journal_volume     64
_journal_issue      1
_journal_page_first     o86
_journal_page_last     o86
_journal_paper_category     QO
_journal_coeditor_code     CF2168
_publ_contact_author_name     'R. Vilma Bojan'
_publ_contact_author_address
;
Facultatea de Chimie si Inginerie Chimica, Univesitatea Babes-Bolyai,
 Cluj-Napoca, Ro-40028, RO
;
_publ_contact_author_email     brvilma@chem.ubbcluj.ro
_publ_contact_author_fax     ?
_publ_contact_author_phone     ?
_publ_section_title
;
N,N-Bis(2-bromoethyl)aniline
;
loop_
    _publ_author_name
    _publ_author_footnote
    _publ_author_address
    'Bojan, R. Vilma' .
;
Facultatea de Chimie si Inginerie Chimica, Univesitatea Babes-Bolyai,
Cluj-Napoca, Ro-40028, Romania
;
    'Varga, Richard A.' .
;
Facultatea de Chimie si Inginerie Chimica, Univesitatea Babes-Bolyai,
Cluj-Napoca, Ro-40028, Romania
;
    'Silvestru, Cristian' .
;
Facultatea de Chimie si Inginerie Chimica, Univesitatea Babes-Bolyai,
Cluj-Napoca, Ro-40028, Romania
;
