##############################################################################
###                                                                        ###
###        Electronic paper (Acta Crystallographica Section E)             ###
###                                                                        ###
##############################################################################
#                                                                            #
# This CIF contains the data in a paper accepted for publication in Acta     #
# Crystallographica Section E. It conforms to the requirements of Notes      #
# for Authors for Section E, and has been peer reviewed under the auspices   #
# of the IUCr Commission on Journals.                                        #
#                                                                            #
# Full details of the Crystallographic Information File format               #
# are given in the paper "The Crystallographic Information File (CIF):       #
# a New Standard Archive File for Crystallography" by S. R. Hall, F. H.      #
# Allen and I. D. Brown [Acta Cryst. (1991), A47, 655-685].                  #
#                                                                            #
# The current version of the core CIF dictionary is obtainable from          #
# ftp://ftp.iucr.org/pub/cif_core.dic. The current version number is 2.1.    #
#                                                                            #
# Software is freely available for graphical display of the structure(s) in  #
# this CIF.  For information consult the CIF home page http://www.iucr.org/  #
# cif/home.html                                                              #
#                                                                            #
#            Copyright International Union of Crystallography                #
#                                                                            #
##############################################################################
                                             
data_I
_audit_creation_method     SHELXL-97
_chemical_name_systematic
;
2-Hydroxy-5-nitrobenzene-1,3-dicarboxylic acid monohydrate
;
_chemical_name_common     ?
_chemical_formula_moiety     'C8 H5 N O7, H2 O'
_chemical_formula_sum     'C8 H7 N O8'
_chemical_formula_iupac     'C8 H5 N O7, H2 O'
_chemical_formula_weight     245.15
_chemical_melting_point     ?
_symmetry_cell_setting     monoclinic
_symmetry_space_group_name_H-M     'C 2/c'
_symmetry_space_group_name_Hall     '-C 2yc'
loop_
    _symmetry_equiv_pos_as_xyz
    'x, y, z'
    '-x, y, -z+1/2'
    'x+1/2, y+1/2, z'
    '-x+1/2, y+1/2, -z+1/2'
    '-x, -y, -z'
    'x, -y, z-1/2'
    '-x+1/2, -y+1/2, -z'
    'x+1/2, -y+1/2, z-1/2'
_cell_length_a     25.21(2)
_cell_length_b     6.5072(16)
_cell_length_c     12.331(2)
_cell_angle_alpha     90.00
_cell_angle_beta     112.019(4)
_cell_angle_gamma     90.00
_cell_volume     1875.3(17)
_cell_formula_units_Z     8
_cell_measurement_reflns_used     1481
_cell_measurement_theta_min     2.773
_cell_measurement_theta_max     26.563
_cell_measurement_temperature     273(2)
_exptl_crystal_description     prism
_exptl_crystal_colour     colourless
_exptl_crystal_size_max     0.24
_exptl_crystal_size_mid     0.15
_exptl_crystal_size_min     0.15
_exptl_crystal_density_diffrn     1.737
_exptl_crystal_density_meas     ?
_exptl_crystal_density_method     'not measured'
_exptl_crystal_F_000     1008
_exptl_absorpt_coefficient_mu     0.160
_exptl_absorpt_correction_type     multi-scan
_exptl_absorpt_process_details     '(SADABS; Sheldrick, 1996)'
_exptl_absorpt_correction_T_min     0.9625
_exptl_absorpt_correction_T_max     0.9770
_exptl_special_details
;
;
_diffrn_ambient_temperature     273(2)
_diffrn_radiation_type     MoK\a
_diffrn_radiation_wavelength     0.71073
_diffrn_radiation_source     'fine-focus sealed tube'
_diffrn_radiation_monochromator     graphite
_diffrn_measurement_device_type     'Bruker APEXII area-detector'
_diffrn_measurement_method     'φ and ω'
_diffrn_detector_area_resol_mean     ?
_diffrn_reflns_number     6094
_diffrn_reflns_av_R_equivalents     0.0318
_diffrn_reflns_av_sigmaI/netI     0.0376
_diffrn_reflns_theta_min     3.25
_diffrn_reflns_theta_max     26.45
_diffrn_reflns_theta_full     26.45
_diffrn_measured_fraction_theta_max     0.975
_diffrn_measured_fraction_theta_full     0.975
_diffrn_reflns_limit_h_min     -31
_diffrn_reflns_limit_h_max     31
_diffrn_reflns_limit_k_min     -7
_diffrn_reflns_limit_k_max     8
_diffrn_reflns_limit_l_min     -15
_diffrn_reflns_limit_l_max     15
_diffrn_standards_number     0
_diffrn_standards_interval_count     ?
_diffrn_standards_interval_time     ?
_diffrn_standards_decay_%     ?
_refine_special_details
;
 Refinement of F² against ALL reflections.  The weighted R-factor wR and
 goodness of fit S are based on F², conventional R-factors R are based
 on F, with F set to zero for negative F². The threshold expression of
 F² > 2sigma(F²) is used only for calculating R-factors(gt) etc. and is
 not relevant to the choice of reflections for refinement.  R-factors based
 on F² are statistically about twice as large as those based on F, and R-
 factors based on ALL data will be even larger.
;
_reflns_number_total     1885
_reflns_number_gt     972
_reflns_threshold_expression     I>2σ(I)
_refine_ls_structure_factor_coef     Fsqd
_refine_ls_matrix_type     full
_refine_ls_R_factor_all     0.0949
_refine_ls_R_factor_gt     0.0516
_refine_ls_wR_factor_gt     0.1307
_refine_ls_wR_factor_ref     0.1476
_refine_ls_goodness_of_fit_ref     1.021
_refine_ls_restrained_S_all     1.020
_refine_ls_number_reflns     1885
_refine_ls_number_parameters     166
_refine_ls_number_restraints     4
_refine_ls_hydrogen_treatment     mixed
_refine_ls_weighting_scheme     calc
_refine_ls_weighting_details
           'calc w=1/[σ²(Fo²)+(0.078P)²+0.002P] where P=(Fo²+2Fc²)/3'
_atom_sites_solution_hydrogens     geom
_atom_sites_solution_primary     direct
_atom_sites_solution_secondary     difmap
_refine_ls_shift/su_max     0.000
_refine_ls_shift/su_mean     0.000
_refine_diff_density_max     0.351
_refine_diff_density_min     -0.211
_refine_ls_extinction_method     'SHELXL97 (Sheldrick, 1997)'
_refine_ls_extinction_coef     0.0090(18)
_refine_ls_extinction_expression
                                  'Fc^*^=kFc[1+0.001xFc²λ³/sin(2θ)]^-1/4^'
loop_
    _atom_type_symbol
    _atom_type_description
    _atom_type_scat_dispersion_real
    _atom_type_scat_dispersion_imag
    _atom_type_scat_source
    'C' 'C' 0.0033 0.0016
                         'International Tables Vol C Tables 4.2.6.8 and 6.1.1.4'
    'H' 'H' 0.0000 0.0000
                         'International Tables Vol C Tables 4.2.6.8 and 6.1.1.4'
    'N' 'N' 0.0061 0.0033
                         'International Tables Vol C Tables 4.2.6.8 and 6.1.1.4'
    'O' 'O' 0.0106 0.0060
                         'International Tables Vol C Tables 4.2.6.8 and 6.1.1.4'
_computing_data_collection     'SMART (Siemens, 1996)'
_computing_cell_refinement     'SAINT (Siemens, 1996)'
_computing_data_reduction     'SAINT (Siemens, 1996)'
_computing_structure_solution     'SHELXS97 (Sheldrick, 1997)'
_computing_structure_refinement     'SHELXL97 (Sheldrick, 1997)'
_computing_molecular_graphics     'SHELXTL (Siemens, 1996)'
_computing_publication_material     'SHELXTL (Siemens, 1996)'
loop_
    _atom_site_type_symbol
    _atom_site_label
    _atom_site_fract_x
    _atom_site_fract_y
    _atom_site_fract_z
    _atom_site_U_iso_or_equiv
    _atom_site_adp_type
    _atom_site_calc_flag
    _atom_site_refinement_flags
    _atom_site_occupancy
    _atom_site_disorder_assembly
    _atom_site_disorder_group
    O O1 0.53249(7) 0.2530(3) 1.04704(15) 0.0707(6) Uani d . 1 . .
    H H1 0.5645 0.2442 1.0450 0.106 Uiso calc R 1 . .
    O O2 0.50754(9) 0.2174(4) 0.86014(17) 0.0995(8) Uani d . 1 . .
    O O3 0.29255(7) 0.1309(3) 0.63171(16) 0.0799(7) Uani d . 1 . .
    O O4 0.24253(8) 0.3055(3) 0.70484(16) 0.0794(6) Uani d . 1 . .
    H H4 0.2176 0.2804 0.6409 0.119 Uiso calc R 1 . .
    O O5 0.30610(8) 0.3717(3) 1.11233(16) 0.0838(7) Uani d . 1 . .
    O O6 0.39253(10) 0.3002(4) 1.21843(18) 0.0951(8) Uani d . 1 . .
    O O7 0.40213(7) 0.2101(3) 0.72900(15) 0.0714(6) Uani d . 1 . .
    H H7 0.4369 0.2112 0.7461 0.107 Uiso calc R 1 . .
    O O8 0.63201(8) 0.2289(3) 1.02771(18) 0.0718(6) Uani d D 1 . .
    N N1 0.35410(10) 0.3194(4) 1.1251(2) 0.0646(6) Uani d . 1 . .
    C C1 0.43547(9) 0.2452(4) 0.9353(2) 0.0525(6) Uani d . 1 . .
    C C2 0.39111(11) 0.2307(4) 0.8239(2) 0.0548(6) Uani d . 1 . .
    C C3 0.33520(10) 0.2446(4) 0.8197(2) 0.0515(6) Uani d . 1 . .
    C C4 0.32271(10) 0.2745(3) 0.9165(2) 0.0542(6) Uani d . 1 . .
    H H4A 0.2850 0.2882 0.9108 0.105 Uiso calc R 1 . .
    C C5 0.36655(10) 0.2839(4) 1.0212(2) 0.0523(6) Uani d . 1 . .
    C C6 0.42274(10) 0.2691(4) 1.0321(2) 0.0544(6) Uani d . 1 . .
    H H6 0.4519 0.2754 1.1057 0.105 Uiso calc R 1 . .
    C C7 0.49519(10) 0.2385(4) 0.9441(2) 0.0605(7) Uani d . 1 . .
    C C8 0.28731(9) 0.2262(3) 0.71083(18) 0.0424(6) Uani d . 1 . .
    H H8B 0.630(2) 0.215(7) 0.959(2) 0.114(18) Uiso d D 1 . .
    H H8A 0.5964(12) 0.22(3) 1.010(6) 0.11(5) Uiso d D 1 . .
loop_
    _atom_site_aniso_label
    _atom_site_aniso_U_11
    _atom_site_aniso_U_22
    _atom_site_aniso_U_33
    _atom_site_aniso_U_12
    _atom_site_aniso_U_13
    _atom_site_aniso_U_23
    O1 0.0384(11) 0.1043(15) 0.0618(12) -0.0009(10) 0.0099(9) -0.0009(9)
    O2 0.0435(11) 0.198(3) 0.0589(13) 0.0025(12) 0.0217(10) 0.0002(12)
    O3 0.0514(11) 0.1153(17) 0.0653(12) -0.0086(11) 0.0131(9) -0.0093(11)
    O4 0.0411(11) 0.1231(17) 0.0646(12) 0.0067(11) 0.0092(9) 0.0062(11)
    O5 0.0599(13) 0.1226(17) 0.0794(13) 0.0043(11) 0.0382(11) -0.0094(12)
    O6 0.0739(15) 0.157(2) 0.0506(12) 0.0154(13) 0.0186(11) -0.0037(12)
    O7 0.0377(10) 0.1242(16) 0.0524(11) 0.0002(10) 0.0171(8) -0.0026(9)
    O8 0.0440(11) 0.0945(15) 0.0713(14) 0.0003(9) 0.0152(9) 0.0031(10)
    N1 0.0570(15) 0.0803(16) 0.0606(14) 0.0003(11) 0.0269(13) -0.0038(11)
    C1 0.0351(13) 0.0693(16) 0.0517(15) 0.0004(11) 0.0146(12) 0.0017(11)
    C2 0.0440(14) 0.0723(16) 0.0478(14) 0.0008(12) 0.0170(12) -0.0006(11)
    C3 0.0385(13) 0.0645(16) 0.0490(13) -0.0005(10) 0.0136(11) 0.0046(11)
    C4 0.0423(14) 0.0608(16) 0.0605(16) 0.0002(10) 0.0205(13) 0.0033(11)
    C5 0.0480(15) 0.0633(15) 0.0471(13) 0.0036(11) 0.0197(11) 0.0008(11)
    C6 0.0397(13) 0.0674(16) 0.0517(14) -0.0008(11) 0.0119(11) -0.0003(11)
    C7 0.0388(14) 0.0849(19) 0.0535(15) 0.0001(12) 0.0123(13) 0.0042(12)
    C8 0.0260(12) 0.0659(15) 0.0347(12) -0.0002(10) 0.0106(9) 0.0025(10)
_geom_special_details
;
 All esds (except the esd in the dihedral angle between two l.s. planes)
 are estimated using the full covariance matrix.  The cell esds are taken
 into account individually in the estimation of esds in distances, angles
 and torsion angles; correlations between esds in cell parameters are only
 used when they are defined by crystal symmetry.  An approximate (isotropic)
 treatment of cell esds is used for estimating esds involving l.s. planes.
;
loop_
    _geom_bond_atom_site_label_1
    _geom_bond_atom_site_label_2
    _geom_bond_site_symmetry_2
    _geom_bond_distance
    _geom_bond_publ_flag
    O1 C7 . 1.268(3) ?
    O1 H1 . 0.8200 ?
    O2 C7 . 1.196(3) ?
    O3 C8 . 1.204(3) ?
    O4 C8 . 1.218(3) ?
    O4 H4 . 0.8200 ?
    O5 N1 . 1.209(3) ?
    O6 N1 . 1.201(3) ?
    O7 C2 . 1.308(3) ?
    O7 H7 . 0.8200 ?
    O8 H8B . 0.841(19) ?
    O8 H8A . 0.84(4) ?
    N1 C5 . 1.448(3) ?
    C1 C6 . 1.356(3) ?
    C1 C2 . 1.412(3) ?
    C1 C7 . 1.469(4) ?
    C2 C3 . 1.393(4) ?
    C3 C4 . 1.358(3) ?
    C3 C8 . 1.435(3) ?
    C4 C5 . 1.350(3) ?
    C4 H4A . 0.9300 ?
    C5 C6 . 1.375(4) ?
    C6 H6 . 0.9300 ?
loop_
    _geom_angle_atom_site_label_1
    _geom_angle_atom_site_label_2
    _geom_angle_atom_site_label_3
    _geom_angle_site_symmetry_1
    _geom_angle_site_symmetry_3
    _geom_angle
    _geom_angle_publ_flag
    C7 O1 H1 . . 109.5 ?
    C8 O4 H4 . . 109.5 ?
    C2 O7 H7 . . 109.5 ?
    H8B O8 H8A . . 95(3) ?
    O6 N1 O5 . . 124.2(2) ?
    O6 N1 C5 . . 117.8(2) ?
    O5 N1 C5 . . 117.9(2) ?
    C6 C1 C2 . . 120.1(2) ?
    C6 C1 C7 . . 120.8(2) ?
    C2 C1 C7 . . 119.1(2) ?
    O7 C2 C3 . . 121.6(2) ?
    O7 C2 C1 . . 121.4(2) ?
    C3 C2 C1 . . 117.0(2) ?
    C4 C3 C2 . . 122.7(2) ?
    C4 C3 C8 . . 116.3(2) ?
    C2 C3 C8 . . 121.0(2) ?
    C5 C4 C3 . . 118.1(2) ?
    C5 C4 H4A . . 121.0 ?
    C3 C4 H4A . . 121.0 ?
    C4 C5 C6 . . 122.3(2) ?
    C4 C5 N1 . . 118.8(2) ?
    C6 C5 N1 . . 118.8(2) ?
    C1 C6 C5 . . 119.8(2) ?
    C1 C6 H6 . . 120.1 ?
    C5 C6 H6 . . 120.1 ?
    O2 C7 O1 . . 122.6(2) ?
    O2 C7 C1 . . 122.1(2) ?
    O1 C7 C1 . . 115.3(2) ?
    O3 C8 O4 . . 123.3(2) ?
    O3 C8 C3 . . 119.4(2) ?
    O4 C8 C3 . . 117.2(2) ?
loop_
    _geom_hbond_atom_site_label_D
    _geom_hbond_atom_site_label_H
    _geom_hbond_atom_site_label_A
    _geom_hbond_site_symmetry_A
    _geom_hbond_distance_DH
    _geom_hbond_distance_HA
    _geom_hbond_distance_DA
    _geom_hbond_angle_DHA
    _geom_hbond_publ_flag
    O7 H7 O2 2_656 0.82 2.25 2.876(3) 134 yes
    O1 H1 O6 2_657 0.82 2.73 2.816(3) 88 yes
    O8 H8A O2 . 0.84(4) 2.31(5) 3.043(3) 145(7) yes
    O7 H7 O2 . 0.82 1.81 2.541(3) 148 yes
data_global
_journal_date_recd_electronic     2007-09-02
_journal_date_accepted     2007-09-14
_journal_name_full     'Acta Crystallographica, Section E'
_journal_year     2007
_journal_volume     63
_journal_issue     10
_journal_page_first     o4191
_journal_page_last     o4191
_journal_paper_category     QO
_journal_coeditor_code     HK2323
_publ_contact_author_name     'H. Zhong'
_publ_contact_author_address
;
      College of Chemistry and Chemical Engineering,
      Jinggangshan University,
      Jian 343009, People's Republic of China
;
_publ_contact_author_email     huazhong06@126.com
_publ_contact_author_fax     +86-796-8100490
_publ_contact_author_phone     +86-796-8100490
_publ_section_title
;
2-Hydroxy-5-nitrobenzene-1,3-dicarboxylic acid monohydrate
;
loop_
    _publ_author_name
    _publ_author_address
    'H. Zhong'
;
      College of Chemistry and Chemical Engineering
      Provincial Key Laboratory of Coordination Chemistry
      Jinggangshan University,
      Jian 343009, People's Republic of China
;
    'X.-M. Yang'
;
      Institute of Applied Materials,
      Jiangxi University of Finance and Economics, Nanchang 330032,
      People's Republic of China
;
    'H.-L. Xie'
;
      College of Chemistry and Chemical Engineering
      Provincial Key Laboratory of Coordination Chemistry
      Jinggangshan University,
      Jian 343009, People's Republic of China
;
    'C.-J. Luo'
;
      College of Chemistry and Chemical Engineering
      Provincial Key Laboratory of Coordination Chemistry
      Jinggangshan University,
      Jian 343009, People's Republic of China
;
